BEGIN:VCALENDAR
VERSION:2.0
PRODID:calendify.com
BEGIN:VEVENT
UID:calendify-session-Ae6gd27kON3
DTSTART:20200202T084000Z
SEQUENCE:0
TRANSP:OPAQUE
DTEND:20200202T090000Z
URL:https://calendify.com/session/Ae6gd27kON3
LOCATION:AW1.126
SUMMARY:openEO: Interoperable geoprocessing in the cloud
CLASS:PUBLIC
DESCRIPTION:https://calendify.com/session/Ae6gd27kON3
DTSTAMP:20260422T164442Z
CREATED:20200513T234734Z
LAST-MODIFIED:20210426T093310Z
END:VEVENT
END:VCALENDAR