BEGIN:VCALENDAR
VERSION:2.0
PRODID:calendify.com
BEGIN:VEVENT
UID:calendify-session-Ae6gd2JLON3
DTSTART:20190822T010000Z
SEQUENCE:0
TRANSP:OPAQUE
DTEND:20190822T030000Z
URL:https://calendify.com/session/Ae6gd2JLON3
LOCATION:Kemistry Lounge
SUMMARY:Brick
CLASS:PUBLIC
DESCRIPTION:https://calendify.com/session/Ae6gd2JLON3
DTSTAMP:20260420T140358Z
CREATED:20200513T001655Z
LAST-MODIFIED:20200513T003255Z
END:VEVENT
END:VCALENDAR