BEGIN:VCALENDAR
VERSION:2.0
PRODID:calendify.com
BEGIN:VEVENT
UID:calendify-session-Ae6gd2NoON3
DTSTART:20200201T143000Z
SEQUENCE:0
TRANSP:OPAQUE
DTEND:20200201T145500Z
URL:https://calendify.com/session/Ae6gd2NoON3
LOCATION:UA2.118 (Henriot)
SUMMARY:AMENDMENT Quantum Game with Photons: Tensors in TypeScript\, Visual
 ized
CLASS:PUBLIC
DESCRIPTION:https://calendify.com/session/Ae6gd2NoON3
DTSTAMP:20260420T195703Z
CREATED:20200513T234730Z
LAST-MODIFIED:20210426T093308Z
END:VEVENT
END:VCALENDAR