BEGIN:VCALENDAR
VERSION:2.0
PRODID:calendify.com
BEGIN:VEVENT
UID:calendify-session-Ae6gd2byON3
DTSTART:20200202T130000Z
SEQUENCE:0
TRANSP:OPAQUE
DTEND:20200202T132500Z
URL:https://calendify.com/session/Ae6gd2byON3
LOCATION:UA2.118 (Henriot)
SUMMARY:Kotlin MP: Into the Multi-Verse
CLASS:PUBLIC
DESCRIPTION:https://calendify.com/session/Ae6gd2byON3
DTSTAMP:20260425T192727Z
CREATED:20200513T234735Z
LAST-MODIFIED:20210426T093310Z
END:VEVENT
END:VCALENDAR