BEGIN:VCALENDAR
VERSION:2.0
PRODID:calendify.com
BEGIN:VEVENT
UID:calendify-session-Ae6gd2v7ON3
DTSTART:20200201T102000Z
SEQUENCE:0
TRANSP:OPAQUE
DTEND:20200201T105000Z
URL:https://calendify.com/session/Ae6gd2v7ON3
LOCATION:UD2.208 (Decroly)
SUMMARY:BPF as a revolutionary technology for the container landscape
CLASS:PUBLIC
DESCRIPTION:https://calendify.com/session/Ae6gd2v7ON3
DTSTAMP:20260424T063207Z
CREATED:20200513T234731Z
LAST-MODIFIED:20210426T093308Z
END:VEVENT
END:VCALENDAR