BEGIN:VCALENDAR
VERSION:2.0
PRODID:calendify.com
BEGIN:VEVENT
UID:calendify-session-Ae6gdD9mgN3
DTSTART:20201228T171000Z
SEQUENCE:0
TRANSP:OPAQUE
DTEND:20201228T190300Z
URL:https://calendify.com/session/Ae6gdD9mgN3
LOCATION:ChaosZone TV Stream
SUMMARY:Radio (In)Security: Urheberrecht\, Darknet und die Bundespolizei
CLASS:PUBLIC
DESCRIPTION:https://calendify.com/session/Ae6gdD9mgN3
DTSTAMP:20260422T002229Z
CREATED:20201227T020316Z
LAST-MODIFIED:20210114T154804Z
END:VEVENT
END:VCALENDAR