BEGIN:VCALENDAR
VERSION:2.0
PRODID:calendify.com
BEGIN:VEVENT
UID:calendify-session-Ae6gdDAxgN3
DTSTART:20180401T180000Z
SEQUENCE:0
TRANSP:OPAQUE
DTEND:20180401T200000Z
URL:https://calendify.com/session/Ae6gdDAxgN3
LOCATION:Siebold
SUMMARY:Wireguard Nachschlag
CLASS:PUBLIC
DESCRIPTION:https://calendify.com/session/Ae6gdDAxgN3
DTSTAMP:20260422T210326Z
CREATED:20200520T231946Z
LAST-MODIFIED:20200520T231946Z
END:VEVENT
END:VCALENDAR