BEGIN:VCALENDAR
VERSION:2.0
PRODID:calendify.com
BEGIN:VEVENT
UID:calendify-session-Ae6gdDZAgN3
DTSTART:20201228T120000Z
SEQUENCE:0
TRANSP:OPAQUE
DTEND:20201228T124000Z
URL:https://calendify.com/session/Ae6gdDZAgN3
LOCATION:c-base Berlin
SUMMARY:The Hackerfleet Operating System & the Isomer Framework
CLASS:PUBLIC
DESCRIPTION:https://calendify.com/session/Ae6gdDZAgN3
DTSTAMP:20260422T184751Z
CREATED:20201222T224545Z
LAST-MODIFIED:20211226T170517Z
END:VEVENT
END:VCALENDAR