BEGIN:VCALENDAR
VERSION:2.0
PRODID:calendify.com
BEGIN:VEVENT
UID:calendify-session-Ae6gdGW7MN3
DTSTART:20241228T120000Z
SEQUENCE:0
TRANSP:OPAQUE
DTEND:20241228T130000Z
URL:https://calendify.com/session/Ae6gdGW7MN3
LOCATION:Saal A - Lötstationen Station 2
SUMMARY:Rockets löten
CLASS:PUBLIC
DESCRIPTION:https://calendify.com/session/Ae6gdGW7MN3
DTSTAMP:20260424T002816Z
CREATED:20241227T141507Z
LAST-MODIFIED:20250101T225002Z
END:VEVENT
END:VCALENDAR