BEGIN:VCALENDAR
VERSION:2.0
PRODID:calendify.com
BEGIN:VEVENT
UID:calendify-session-Ae6gdGmLMN3
DTSTART:20241227T160000Z
SEQUENCE:0
TRANSP:OPAQUE
DTEND:20241227T164500Z
URL:https://calendify.com/session/Ae6gdGmLMN3
LOCATION:KliMathematik Augsburg Table (stage side)\, look in description
SUMMARY:Q-rious world of Q-theory
CLASS:PUBLIC
DESCRIPTION:https://calendify.com/session/Ae6gdGmLMN3
DTSTAMP:20260422T095356Z
CREATED:20241227T155038Z
LAST-MODIFIED:20250101T225002Z
END:VEVENT
END:VCALENDAR