BEGIN:VCALENDAR
VERSION:2.0
PRODID:calendify.com
BEGIN:VEVENT
UID:calendify-session-Ae6gdGqkMN3
DTSTART:20241229T180000Z
SEQUENCE:0
TRANSP:OPAQUE
DTEND:20241229T183000Z
URL:https://calendify.com/session/Ae6gdGqkMN3
LOCATION:CDC Mini Stage
SUMMARY:Smart Cities: Digital Utopia or Privacy Dystopia? A critical analys
 is of Singapore's 'Smart Nation 2.0'
CLASS:PUBLIC
DESCRIPTION:https://calendify.com/session/Ae6gdGqkMN3
DTSTAMP:20260419T140630Z
CREATED:20241227T141513Z
LAST-MODIFIED:20250101T225003Z
END:VEVENT
END:VCALENDAR