BEGIN:VCALENDAR
VERSION:2.0
PRODID:calendify.com
BEGIN:VEVENT
UID:calendify-session-Ae6gdV0mON3
DTSTART:20240531T180000Z
SEQUENCE:0
TRANSP:OPAQUE
DTEND:20240531T190000Z
URL:https://calendify.com/session/Ae6gdV0mON3
LOCATION:ZKM Medientheater
SUMMARY:Fotografieren auf Chaos Events
CLASS:PUBLIC
DESCRIPTION:https://calendify.com/session/Ae6gdV0mON3
DTSTAMP:20260422T175150Z
CREATED:20240531T122738Z
LAST-MODIFIED:20240602T132303Z
END:VEVENT
END:VCALENDAR