BEGIN:VCALENDAR
VERSION:2.0
PRODID:calendify.com
BEGIN:VEVENT
UID:calendify-session-Ae6gdV2xON3
DTSTART:20230715T133000Z
SEQUENCE:0
TRANSP:OPAQUE
DTEND:20230715T143000Z
URL:https://calendify.com/session/Ae6gdV2xON3
LOCATION:Raum 1.7
SUMMARY:Is it significant yet? How to torture your data and finally get tha
 t paper in \"Nature\"
CLASS:PUBLIC
DESCRIPTION:https://calendify.com/session/Ae6gdV2xON3
DTSTAMP:20260420T180936Z
CREATED:20230806T113150Z
LAST-MODIFIED:20230806T113150Z
END:VEVENT
END:VCALENDAR