BEGIN:VCALENDAR
VERSION:2.0
PRODID:calendify.com
BEGIN:VEVENT
UID:calendify-session-Ae6gdVyqON3
DTSTART:20231229T130000Z
SEQUENCE:0
TRANSP:OPAQUE
DTEND:20231229T153000Z
URL:https://calendify.com/session/Ae6gdVyqON3
LOCATION:Chillout Lounge
SUMMARY:RVDS
CLASS:PUBLIC
DESCRIPTION:https://calendify.com/session/Ae6gdVyqON3
DTSTAMP:20260420T125233Z
CREATED:20231227T030003Z
LAST-MODIFIED:20240401T142932Z
END:VEVENT
END:VCALENDAR