BEGIN:VCALENDAR
VERSION:2.0
PRODID:calendify.com
BEGIN:VEVENT
UID:calendify-session-Ae6gdqL94N3
DTSTART:20220206T160000Z
SEQUENCE:0
TRANSP:OPAQUE
DTEND:20220206T164000Z
URL:https://calendify.com/session/Ae6gdqL94N3
LOCATION:D.minimalistic
SUMMARY:A Relational Exploration of McCarthy's 'Amb'
CLASS:PUBLIC
DESCRIPTION:https://calendify.com/session/Ae6gdqL94N3
DTSTAMP:20260422T141223Z
CREATED:20220120T214606Z
LAST-MODIFIED:20220206T225003Z
END:VEVENT
END:VCALENDAR