BEGIN:VCALENDAR
VERSION:2.0
PRODID:calendify.com
BEGIN:VEVENT
UID:calendify-session-Ae6gdqPL4N3
DTSTART:20220205T160000Z
SEQUENCE:0
TRANSP:OPAQUE
DTEND:20220205T163000Z
URL:https://calendify.com/session/Ae6gdqPL4N3
LOCATION:D.javascript
SUMMARY:Search and aggregations made easy with NodeJS and OpenSearch
CLASS:PUBLIC
DESCRIPTION:https://calendify.com/session/Ae6gdqPL4N3
DTSTAMP:20260423T083438Z
CREATED:20220120T214602Z
LAST-MODIFIED:20220206T225002Z
END:VEVENT
END:VCALENDAR