BEGIN:VCALENDAR
VERSION:2.0
PRODID:calendify.com
BEGIN:VEVENT
UID:calendify-session-Ae6gdqQq4N3
DTSTART:20220205T143000Z
SEQUENCE:0
TRANSP:OPAQUE
DTEND:20220205T153000Z
URL:https://calendify.com/session/Ae6gdqQq4N3
LOCATION:D.mozilla
SUMMARY:Firefox Desktop Development 101
CLASS:PUBLIC
DESCRIPTION:https://calendify.com/session/Ae6gdqQq4N3
DTSTAMP:20260422T193153Z
CREATED:20220120T214603Z
LAST-MODIFIED:20220206T225003Z
END:VEVENT
END:VCALENDAR