BEGIN:VCALENDAR
VERSION:2.0
PRODID:calendify.com
BEGIN:VEVENT
UID:calendify-session-Ae6gdqVq4N3
DTSTART:20210318T181500Z
SEQUENCE:0
TRANSP:OPAQUE
DTEND:20210318T191500Z
URL:https://calendify.com/session/Ae6gdqVq4N3
LOCATION:Zoom Room 7B
SUMMARY:Avatars in Zoom for All! (a hands-on tutorial)
CLASS:PUBLIC
DESCRIPTION:https://calendify.com/session/Ae6gdqVq4N3
DTSTAMP:20260420T192152Z
CREATED:20210426T094931Z
LAST-MODIFIED:20210426T094931Z
END:VEVENT
END:VCALENDAR