BEGIN:VCALENDAR
VERSION:2.0
PRODID:calendify.com
BEGIN:VEVENT
UID:calendify-session-Ae6gdqlK4N3
DTSTART:20211229T220000Z
SEQUENCE:0
TRANSP:OPAQUE
DTEND:20211229T230000Z
URL:https://calendify.com/session/Ae6gdqlK4N3
LOCATION:c-base
SUMMARY:artfwo and excds live set
CLASS:PUBLIC
DESCRIPTION:https://calendify.com/session/Ae6gdqlK4N3
DTSTAMP:20260420T124641Z
CREATED:20211220T014017Z
LAST-MODIFIED:20211230T225002Z
END:VEVENT
END:VCALENDAR