BEGIN:VCALENDAR
VERSION:2.0
PRODID:calendify.com
BEGIN:VEVENT
UID:calendify-session-Ae6gdrEkON3
DTSTART:20210207T110000Z
SEQUENCE:0
TRANSP:OPAQUE
DTEND:20210207T120000Z
URL:https://calendify.com/session/Ae6gdrEkON3
LOCATION:M.misc
SUMMARY:Building massive virtual communities in Matrix
CLASS:PUBLIC
DESCRIPTION:https://calendify.com/session/Ae6gdrEkON3
DTSTAMP:20260419T223451Z
CREATED:20210114T155443Z
LAST-MODIFIED:20210211T034333Z
END:VEVENT
END:VCALENDAR