BEGIN:VCALENDAR
VERSION:2.0
PRODID:calendify.com
BEGIN:VEVENT
UID:calendify-session-Ae6gdrGmON3
DTSTART:20210207T125500Z
SEQUENCE:0
TRANSP:OPAQUE
DTEND:20210207T135000Z
URL:https://calendify.com/session/Ae6gdrGmON3
LOCATION:D.declarative.minimalistic
SUMMARY:Declaratively yours
CLASS:PUBLIC
DESCRIPTION:https://calendify.com/session/Ae6gdrGmON3
DTSTAMP:20260419T225442Z
CREATED:20210111T170319Z
LAST-MODIFIED:20210208T224804Z
END:VEVENT
END:VCALENDAR