BEGIN:VCALENDAR
VERSION:2.0
PRODID:calendify.com
BEGIN:VEVENT
UID:calendify-session-Ae6gdrJmON3
DTSTART:20210207T104500Z
SEQUENCE:0
TRANSP:OPAQUE
DTEND:20210207T113000Z
URL:https://calendify.com/session/Ae6gdrJmON3
LOCATION:D.geospatial
SUMMARY:Iaso: Geo-aware Data Collection\, Curation and Analysis.
CLASS:PUBLIC
DESCRIPTION:https://calendify.com/session/Ae6gdrJmON3
DTSTAMP:20260423T090520Z
CREATED:20210111T170320Z
LAST-MODIFIED:20210208T224804Z
END:VEVENT
END:VCALENDAR