BEGIN:VCALENDAR
VERSION:2.0
PRODID:calendify.com
BEGIN:VEVENT
UID:calendify-session-Ae6gdrlLON3
DTSTART:20210206T083000Z
SEQUENCE:0
TRANSP:OPAQUE
DTEND:20210206T090000Z
URL:https://calendify.com/session/Ae6gdrlLON3
LOCATION:S.sesame
SUMMARY:Welcome to the stand for Sesame Discovery
CLASS:PUBLIC
DESCRIPTION:https://calendify.com/session/Ae6gdrlLON3
DTSTAMP:20260423T150311Z
CREATED:20210125T190821Z
LAST-MODIFIED:20210208T224803Z
END:VEVENT
END:VCALENDAR