BEGIN:VCALENDAR
VERSION:2.0
PRODID:calendify.com
BEGIN:VEVENT
UID:calendify-session-Ae6gdrmAON3
DTSTART:20210207T164500Z
SEQUENCE:0
TRANSP:OPAQUE
DTEND:20210207T170500Z
URL:https://calendify.com/session/Ae6gdrmAON3
LOCATION:D.cicd
SUMMARY:GitOps Working Group - Overview and Invitation
CLASS:PUBLIC
DESCRIPTION:https://calendify.com/session/Ae6gdrmAON3
DTSTAMP:20260419T164602Z
CREATED:20210111T170319Z
LAST-MODIFIED:20210208T224803Z
END:VEVENT
END:VCALENDAR