BEGIN:VCALENDAR
VERSION:2.0
PRODID:calendify.com
BEGIN:VEVENT
UID:calendify-session-Ae6gdz1mON3
DTSTART:20220206T112000Z
SEQUENCE:0
TRANSP:OPAQUE
DTEND:20220206T114500Z
URL:https://calendify.com/session/Ae6gdz1mON3
LOCATION:D.public-code
SUMMARY:PublicCode.yml - index all public software!
CLASS:PUBLIC
DESCRIPTION:https://calendify.com/session/Ae6gdz1mON3
DTSTAMP:20260420T171025Z
CREATED:20220120T214609Z
LAST-MODIFIED:20220206T225004Z
END:VEVENT
END:VCALENDAR