BEGIN:VCALENDAR
VERSION:2.0
PRODID:calendify.com
BEGIN:VEVENT
UID:calendify-session-Ae6gdz7yON3
DTSTART:20220608T120000Z
SEQUENCE:0
TRANSP:OPAQUE
DTEND:20220608T130000Z
URL:https://calendify.com/session/Ae6gdz7yON3
LOCATION:Meetup Red
SUMMARY:Water for Life
CLASS:PUBLIC
DESCRIPTION:https://calendify.com/session/Ae6gdz7yON3
DTSTAMP:20260424T041521Z
CREATED:20220605T230943Z
LAST-MODIFIED:20220613T235204Z
END:VEVENT
END:VCALENDAR