BEGIN:VCALENDAR
VERSION:2.0
PRODID:calendify.com
BEGIN:VEVENT
UID:calendify-session-Ae6gdzN7ON3
DTSTART:20220610T094500Z
SEQUENCE:0
TRANSP:OPAQUE
DTEND:20220610T114500Z
URL:https://calendify.com/session/Ae6gdzN7ON3
LOCATION:Workshop J
SUMMARY:Bias in Healthcare: wie sieht rassismuskritische Medizin aus?
CLASS:PUBLIC
DESCRIPTION:https://calendify.com/session/Ae6gdzN7ON3
DTSTAMP:20260421T135902Z
CREATED:20220526T162947Z
LAST-MODIFIED:20220613T235204Z
END:VEVENT
END:VCALENDAR