BEGIN:VCALENDAR
VERSION:2.0
PRODID:calendify.com
BEGIN:VEVENT
UID:calendify-session-Ae6gdzPKON3
DTSTART:20220610T080000Z
SEQUENCE:0
TRANSP:OPAQUE
DTEND:20220610T100000Z
URL:https://calendify.com/session/Ae6gdzPKON3
LOCATION:Workshop F
SUMMARY:Kriege\, Krisen\, Chaos – Was kann ich tun?
CLASS:PUBLIC
DESCRIPTION:https://calendify.com/session/Ae6gdzPKON3
DTSTAMP:20260423T172459Z
CREATED:20220526T162948Z
LAST-MODIFIED:20220613T235204Z
END:VEVENT
END:VCALENDAR