BEGIN:VCALENDAR
VERSION:2.0
PRODID:calendify.com
BEGIN:VEVENT
UID:calendify-session-Ae6gdzRAON3
DTSTART:20220206T131000Z
SEQUENCE:0
TRANSP:OPAQUE
DTEND:20220206T134000Z
URL:https://calendify.com/session/Ae6gdzRAON3
LOCATION:D.kotlin
SUMMARY:Mocking without reflection for Kotlin/Multiplatform
CLASS:PUBLIC
DESCRIPTION:https://calendify.com/session/Ae6gdzRAON3
DTSTAMP:20260420T092414Z
CREATED:20220120T214608Z
LAST-MODIFIED:20220206T225004Z
END:VEVENT
END:VCALENDAR