BEGIN:VCALENDAR
VERSION:2.0
PRODID:calendify.com
BEGIN:VEVENT
UID:calendify-session-Ae6gdzVyON3
DTSTART:20161229T214500Z
SEQUENCE:0
TRANSP:OPAQUE
DTEND:20161229T221500Z
URL:https://calendify.com/session/Ae6gdzVyON3
LOCATION:Saal 1
SUMMARY:Eavesdropping on the Dark Cosmos
CLASS:PUBLIC
DESCRIPTION:https://calendify.com/session/Ae6gdzVyON3
DTSTAMP:20260424T014051Z
CREATED:20220415T135303Z
LAST-MODIFIED:20220415T135303Z
END:VEVENT
END:VCALENDAR