BEGIN:VCALENDAR
VERSION:2.0
PRODID:calendify.com
BEGIN:VEVENT
UID:calendify-session-Ae6gdzaxON3
DTSTART:20220520T103000Z
SEQUENCE:0
TRANSP:OPAQUE
DTEND:20220520T123000Z
URL:https://calendify.com/session/Ae6gdzaxON3
LOCATION:Ausstellung BioMedien
SUMMARY:Eigene Spiele mit Godot erstellen
CLASS:PUBLIC
DESCRIPTION:https://calendify.com/session/Ae6gdzaxON3
DTSTAMP:20260422T151802Z
CREATED:20220505T235922Z
LAST-MODIFIED:20220521T215002Z
END:VEVENT
END:VCALENDAR