BEGIN:VCALENDAR
VERSION:2.0
PRODID:calendify.com
BEGIN:VEVENT
UID:calendify-session-Ae6gdzkqON3
DTSTART:20151230T161500Z
SEQUENCE:0
TRANSP:OPAQUE
DTEND:20151230T164500Z
URL:https://calendify.com/session/Ae6gdzkqON3
LOCATION:Hall G
SUMMARY:Microsofts Windows 10 Botnet
CLASS:PUBLIC
DESCRIPTION:https://calendify.com/session/Ae6gdzkqON3
DTSTAMP:20260423T231102Z
CREATED:20220415T142918Z
LAST-MODIFIED:20220415T142918Z
END:VEVENT
END:VCALENDAR