BEGIN:VCALENDAR
VERSION:2.0
PRODID:calendify.com
BEGIN:VEVENT
UID:calendify-session-BmE4oK2q4PQ
DTSTART:20260201T090000Z
SEQUENCE:0
TRANSP:OPAQUE
DTEND:20260201T095500Z
URL:https://calendify.com/session/BmE4oK2q4PQ
LOCATION:UA4.218
SUMMARY:Building Sustainable Businesses Around Open Source Projects
CLASS:PUBLIC
DESCRIPTION:https://calendify.com/session/BmE4oK2q4PQ
DTSTAMP:20260424T062329Z
CREATED:20260131T063319Z
LAST-MODIFIED:20260201T163232Z
END:VEVENT
END:VCALENDAR