BEGIN:VCALENDAR
VERSION:2.0
PRODID:calendify.com
BEGIN:VEVENT
UID:calendify-session-BmE4oL6qOPQ
DTSTART:20180401T180000Z
SEQUENCE:0
TRANSP:OPAQUE
DTEND:20180401T200000Z
URL:https://calendify.com/session/BmE4oL6qOPQ
LOCATION:Max Planck
SUMMARY:Text-Rollenspiel meets Exitroom
CLASS:PUBLIC
DESCRIPTION:https://calendify.com/session/BmE4oL6qOPQ
DTSTAMP:20260422T210945Z
CREATED:20200520T231946Z
LAST-MODIFIED:20200520T231946Z
END:VEVENT
END:VCALENDAR