BEGIN:VCALENDAR
VERSION:2.0
PRODID:calendify.com
BEGIN:VEVENT
UID:calendify-session-BmE4oLrKOPQ
DTSTART:20180330T144500Z
SEQUENCE:0
TRANSP:OPAQUE
DTEND:20180330T164500Z
URL:https://calendify.com/session/BmE4oLrKOPQ
LOCATION:Max Planck
SUMMARY:Verilog for Dummies
CLASS:PUBLIC
DESCRIPTION:https://calendify.com/session/BmE4oLrKOPQ
DTSTAMP:20260422T175302Z
CREATED:20200520T231946Z
LAST-MODIFIED:20200520T231946Z
END:VEVENT
END:VCALENDAR