BEGIN:VCALENDAR
VERSION:2.0
PRODID:calendify.com
BEGIN:VEVENT
UID:calendify-session-BmE4oN3wgPQ
DTSTART:20240330T131500Z
SEQUENCE:0
TRANSP:OPAQUE
DTEND:20240330T161500Z
URL:https://calendify.com/session/BmE4oN3wgPQ
LOCATION:Adas Roothaus - K017
SUMMARY:OpenZFS - Einhüpferworkshop
CLASS:PUBLIC
DESCRIPTION:https://calendify.com/session/BmE4oN3wgPQ
DTSTAMP:20260423T175817Z
CREATED:20240328T125150Z
LAST-MODIFIED:20240401T142841Z
END:VEVENT
END:VCALENDAR