BEGIN:VCALENDAR
VERSION:2.0
PRODID:calendify.com
BEGIN:VEVENT
UID:calendify-session-BmE4oN8XgPQ
DTSTART:20231229T173000Z
SEQUENCE:0
TRANSP:OPAQUE
DTEND:20231229T181000Z
URL:https://calendify.com/session/BmE4oN8XgPQ
LOCATION:Saal E
SUMMARY:Adventures in the Design of Anti-Surveillance Technology (Katzenpos
 t)
CLASS:PUBLIC
DESCRIPTION:https://calendify.com/session/BmE4oN8XgPQ
DTSTAMP:20260423T031122Z
CREATED:20231221T182739Z
LAST-MODIFIED:20240401T142932Z
END:VEVENT
END:VCALENDAR