BEGIN:VCALENDAR
VERSION:2.0
PRODID:calendify.com
BEGIN:VEVENT
UID:calendify-session-BmE4oN9DgPQ
DTSTART:20231227T153000Z
SEQUENCE:0
TRANSP:OPAQUE
DTEND:20231227T160000Z
URL:https://calendify.com/session/BmE4oN9DgPQ
LOCATION:Saal E
SUMMARY:CDC: Introduction to Critical Decentralization
CLASS:PUBLIC
DESCRIPTION:https://calendify.com/session/BmE4oN9DgPQ
DTSTAMP:20260420T081546Z
CREATED:20231225T160002Z
LAST-MODIFIED:20240401T142932Z
END:VEVENT
END:VCALENDAR