BEGIN:VCALENDAR
VERSION:2.0
PRODID:calendify.com
BEGIN:VEVENT
UID:calendify-session-BmE4oNQbgPQ
DTSTART:20231228T220000Z
SEQUENCE:0
TRANSP:OPAQUE
DTEND:20231228T230000Z
URL:https://calendify.com/session/BmE4oNQbgPQ
LOCATION:Lounge
SUMMARY:Mindsight - live
CLASS:PUBLIC
DESCRIPTION:https://calendify.com/session/BmE4oNQbgPQ
DTSTAMP:20260423T031002Z
CREATED:20231226T203002Z
LAST-MODIFIED:20240401T142932Z
END:VEVENT
END:VCALENDAR