BEGIN:VCALENDAR
VERSION:2.0
PRODID:calendify.com
BEGIN:VEVENT
UID:calendify-session-BmE4oNXXgPQ
DTSTART:20231227T130000Z
SEQUENCE:0
TRANSP:OPAQUE
DTEND:20231227T143000Z
URL:https://calendify.com/session/BmE4oNXXgPQ
LOCATION:Stage Y
SUMMARY:Warum der Windows Kernel garnicht so scheiße ist
CLASS:PUBLIC
DESCRIPTION:https://calendify.com/session/BmE4oNXXgPQ
DTSTAMP:20260423T020033Z
CREATED:20231224T230003Z
LAST-MODIFIED:20240401T142932Z
END:VEVENT
END:VCALENDAR