BEGIN:VCALENDAR
VERSION:2.0
PRODID:calendify.com
BEGIN:VEVENT
UID:calendify-session-BmE4oNYJgPQ
DTSTART:20240531T150000Z
SEQUENCE:0
TRANSP:OPAQUE
DTEND:20240531T160000Z
URL:https://calendify.com/session/BmE4oNYJgPQ
LOCATION:ZKM Kubus
SUMMARY:Privacy-preserving and Security in Machine Learning - an Introducti
 on to Federated Learning
CLASS:PUBLIC
DESCRIPTION:https://calendify.com/session/BmE4oNYJgPQ
DTSTAMP:20260420T013818Z
CREATED:20240531T122738Z
LAST-MODIFIED:20240602T132303Z
END:VEVENT
END:VCALENDAR