BEGIN:VCALENDAR
VERSION:2.0
PRODID:calendify.com
BEGIN:VEVENT
UID:calendify-session-BmE4oNaLgPQ
DTSTART:20230815T223000Z
SEQUENCE:0
TRANSP:OPAQUE
DTEND:20230816T000000Z
URL:https://calendify.com/session/BmE4oNaLgPQ
LOCATION:UFO
SUMMARY:Rafush B2B DJ Loui from Jupiter4
CLASS:PUBLIC
DESCRIPTION:https://calendify.com/session/BmE4oNaLgPQ
DTSTAMP:20260420T233446Z
CREATED:20230815T214936Z
LAST-MODIFIED:20240401T150800Z
END:VEVENT
END:VCALENDAR