BEGIN:VCALENDAR
VERSION:2.0
PRODID:calendify.com
BEGIN:VEVENT
UID:calendify-session-BmE4oNqbgPQ
DTSTART:20231228T100000Z
SEQUENCE:0
TRANSP:OPAQUE
DTEND:20231228T110000Z
URL:https://calendify.com/session/BmE4oNqbgPQ
LOCATION:Saal E
SUMMARY:Selbsthilfegruppe für verwaltungsnahe Menschen mit IT-Background (
 \"Faxgeräteclub\")
CLASS:PUBLIC
DESCRIPTION:https://calendify.com/session/BmE4oNqbgPQ
DTSTAMP:20260423T044030Z
CREATED:20231226T115003Z
LAST-MODIFIED:20240401T142932Z
END:VEVENT
END:VCALENDAR