BEGIN:VCALENDAR
VERSION:2.0
PRODID:calendify.com
BEGIN:VEVENT
UID:calendify-session-BmE4oRAwgPQ
DTSTART:20191228T151000Z
SEQUENCE:0
TRANSP:OPAQUE
DTEND:20191228T155000Z
URL:https://calendify.com/session/BmE4oRAwgPQ
LOCATION:Clarke
SUMMARY:Fridays for Future (de)
CLASS:PUBLIC
DESCRIPTION:https://calendify.com/session/BmE4oRAwgPQ
DTSTAMP:20260424T014831Z
CREATED:20200429T014052Z
LAST-MODIFIED:20200429T014052Z
END:VEVENT
END:VCALENDAR