BEGIN:VCALENDAR
VERSION:2.0
PRODID:calendify.com
BEGIN:VEVENT
UID:calendify-session-BmE4oW9m4PQ
DTSTART:20211228T150000Z
SEQUENCE:0
TRANSP:OPAQUE
DTEND:20211228T154500Z
URL:https://calendify.com/session/BmE4oW9m4PQ
LOCATION:Sendezentrum Bühne
SUMMARY:ClubOfNerds
CLASS:PUBLIC
DESCRIPTION:https://calendify.com/session/BmE4oW9m4PQ
DTSTAMP:20260420T112117Z
CREATED:20211220T014017Z
LAST-MODIFIED:20211230T225002Z
END:VEVENT
END:VCALENDAR