BEGIN:VCALENDAR
VERSION:2.0
PRODID:calendify.com
BEGIN:VEVENT
UID:calendify-session-BmE4oWEq4PQ
DTSTART:20210522T130000Z
SEQUENCE:0
TRANSP:OPAQUE
DTEND:20210522T132500Z
URL:https://calendify.com/session/BmE4oWEq4PQ
LOCATION:Kanal 2
SUMMARY:Wie geht’s dem Internet? Die UNESCO Internet-Universalitäts-Indi
 katoren zur Lage in Deutschland
CLASS:PUBLIC
DESCRIPTION:https://calendify.com/session/BmE4oWEq4PQ
DTSTAMP:20260423T044040Z
CREATED:20210505T232421Z
LAST-MODIFIED:20210524T215002Z
END:VEVENT
END:VCALENDAR