BEGIN:VCALENDAR
VERSION:2.0
PRODID:calendify.com
BEGIN:VEVENT
UID:calendify-session-BmE4oWPJ4PQ
DTSTART:20211030T130000Z
SEQUENCE:0
TRANSP:OPAQUE
DTEND:20211030T134500Z
URL:https://calendify.com/session/BmE4oWPJ4PQ
LOCATION:Stream
SUMMARY:Was hat freie Software mit Privatsphäre zu tun?
CLASS:PUBLIC
DESCRIPTION:https://calendify.com/session/BmE4oWPJ4PQ
DTSTAMP:20260424T044906Z
CREATED:20210916T064746Z
LAST-MODIFIED:20211101T215003Z
END:VEVENT
END:VCALENDAR