BEGIN:VCALENDAR
VERSION:2.0
PRODID:calendify.com
BEGIN:VEVENT
UID:calendify-session-BmE4oWRX4PQ
DTSTART:20210310T170000Z
SEQUENCE:0
TRANSP:OPAQUE
DTEND:20210310T180000Z
URL:https://calendify.com/session/BmE4oWRX4PQ
LOCATION:Broadcast Talks
SUMMARY:AI & Labor: A Dialogues & Debates panel
CLASS:PUBLIC
DESCRIPTION:https://calendify.com/session/BmE4oWRX4PQ
DTSTAMP:20260420T172834Z
CREATED:20210426T094927Z
LAST-MODIFIED:20210426T094927Z
END:VEVENT
END:VCALENDAR