BEGIN:VCALENDAR
VERSION:2.0
PRODID:calendify.com
BEGIN:VEVENT
UID:calendify-session-BmE4oWVD4PQ
DTSTART:20220205T143000Z
SEQUENCE:0
TRANSP:OPAQUE
DTEND:20220205T150000Z
URL:https://calendify.com/session/BmE4oWVD4PQ
LOCATION:D.collab
SUMMARY:Introducing ONLYOFFICE Forms for paperwork automation and smart col
 laboration
CLASS:PUBLIC
DESCRIPTION:https://calendify.com/session/BmE4oWVD4PQ
DTSTAMP:20260422T095518Z
CREATED:20220120T214601Z
LAST-MODIFIED:20220206T225002Z
END:VEVENT
END:VCALENDAR