BEGIN:VCALENDAR
VERSION:2.0
PRODID:calendify.com
BEGIN:VEVENT
UID:calendify-session-BmE4oWnX4PQ
DTSTART:20211230T180000Z
SEQUENCE:0
TRANSP:OPAQUE
DTEND:20211230T181000Z
URL:https://calendify.com/session/BmE4oWnX4PQ
LOCATION:Newsstudio
SUMMARY:Final Show
CLASS:PUBLIC
DESCRIPTION:https://calendify.com/session/BmE4oWnX4PQ
DTSTAMP:20260420T221730Z
CREATED:20211226T233003Z
LAST-MODIFIED:20211228T222002Z
END:VEVENT
END:VCALENDAR